BEGIN:VCALENDAR
VERSION:2.0
PRODID:-//Showband &#039;75 - ECPv6.15.13.1//NONSGML v1.0//EN
CALSCALE:GREGORIAN
METHOD:PUBLISH
X-ORIGINAL-URL:https://showband75.nl
X-WR-CALDESC:Evenementen voor Showband &#039;75
REFRESH-INTERVAL;VALUE=DURATION:PT1H
X-Robots-Tag:noindex
X-PUBLISHED-TTL:PT1H
BEGIN:VTIMEZONE
TZID:Europe/Amsterdam
BEGIN:DAYLIGHT
TZOFFSETFROM:+0100
TZOFFSETTO:+0200
TZNAME:CEST
DTSTART:20220327T010000
END:DAYLIGHT
BEGIN:STANDARD
TZOFFSETFROM:+0200
TZOFFSETTO:+0100
TZNAME:CET
DTSTART:20221030T010000
END:STANDARD
BEGIN:DAYLIGHT
TZOFFSETFROM:+0100
TZOFFSETTO:+0200
TZNAME:CEST
DTSTART:20230326T010000
END:DAYLIGHT
BEGIN:STANDARD
TZOFFSETFROM:+0200
TZOFFSETTO:+0100
TZNAME:CET
DTSTART:20231029T010000
END:STANDARD
BEGIN:DAYLIGHT
TZOFFSETFROM:+0100
TZOFFSETTO:+0200
TZNAME:CEST
DTSTART:20240331T010000
END:DAYLIGHT
BEGIN:STANDARD
TZOFFSETFROM:+0200
TZOFFSETTO:+0100
TZNAME:CET
DTSTART:20241027T010000
END:STANDARD
END:VTIMEZONE
BEGIN:VEVENT
DTSTART;TZID=Europe/Amsterdam:20231126T140000
DTEND;TZID=Europe/Amsterdam:20231126T160000
DTSTAMP:20260424T132001
CREATED:20231114T120208Z
LAST-MODIFIED:20231114T120208Z
UID:2501-1701007200-1701014400@showband75.nl
SUMMARY:Vredenburgh Rijswijk
DESCRIPTION:
URL:https://showband75.nl/agenda/vredenburgh-rijswijk/
CATEGORIES:Concert
ORGANIZER;CN="Wijnand van 't Hart":MAILTO:wvthart@ziggo.nl
END:VEVENT
END:VCALENDAR