BEGIN:VCALENDAR
VERSION:2.0
PRODID:-//Showband &#039;75 - ECPv6.15.13.1//NONSGML v1.0//EN
CALSCALE:GREGORIAN
METHOD:PUBLISH
X-ORIGINAL-URL:https://showband75.nl
X-WR-CALDESC:Evenementen voor Showband &#039;75
REFRESH-INTERVAL;VALUE=DURATION:PT1H
X-Robots-Tag:noindex
X-PUBLISHED-TTL:PT1H
BEGIN:VTIMEZONE
TZID:Europe/Amsterdam
BEGIN:DAYLIGHT
TZOFFSETFROM:+0100
TZOFFSETTO:+0200
TZNAME:CEST
DTSTART:20190331T010000
END:DAYLIGHT
BEGIN:STANDARD
TZOFFSETFROM:+0200
TZOFFSETTO:+0100
TZNAME:CET
DTSTART:20191027T010000
END:STANDARD
BEGIN:DAYLIGHT
TZOFFSETFROM:+0100
TZOFFSETTO:+0200
TZNAME:CEST
DTSTART:20200329T010000
END:DAYLIGHT
BEGIN:STANDARD
TZOFFSETFROM:+0200
TZOFFSETTO:+0100
TZNAME:CET
DTSTART:20201025T010000
END:STANDARD
BEGIN:DAYLIGHT
TZOFFSETFROM:+0100
TZOFFSETTO:+0200
TZNAME:CEST
DTSTART:20210328T010000
END:DAYLIGHT
BEGIN:STANDARD
TZOFFSETFROM:+0200
TZOFFSETTO:+0100
TZNAME:CET
DTSTART:20211031T010000
END:STANDARD
END:VTIMEZONE
BEGIN:VEVENT
DTSTART;TZID=Europe/Amsterdam:20200505T104500
DTEND;TZID=Europe/Amsterdam:20200505T114500
DTSTAMP:20260419T162020
CREATED:20191201T211528Z
LAST-MODIFIED:20200424T130658Z
UID:1851-1588675500-1588679100@showband75.nl
SUMMARY:Gecancelled: Marchingband Serenade WZH Prinsenhof
DESCRIPTION:
URL:https://showband75.nl/agenda/marchingband-serenade-wzh-prinsenhof/
LOCATION:WZH Prinsenhof\, Gr. Juliana van Stolberglaan 1\, Leidschendam\, Zuid-Holland\, 2263 AA\, Nederland
CATEGORIES:Serenade
ATTACH;FMTTYPE=image/jpeg:https://showband75.nl/wp-content/uploads/2019/07/IMG_20190706_171027-1.jpg
END:VEVENT
BEGIN:VEVENT
DTSTART;TZID=Europe/Amsterdam:20200118T190000
DTEND;TZID=Europe/Amsterdam:20200118T220000
DTSTAMP:20260419T162020
CREATED:20191201T205141Z
LAST-MODIFIED:20191201T205141Z
UID:1838-1579374000-1579384800@showband75.nl
SUMMARY:Marchingband besloten optreden
DESCRIPTION:
URL:https://showband75.nl/agenda/marchingband-besloten-optreden/
LOCATION:Zuid-Holland
CATEGORIES:Serenade
ATTACH;FMTTYPE=image/jpeg:https://showband75.nl/wp-content/uploads/graphics/paginas/marchingband-1.jpg
END:VEVENT
END:VCALENDAR