BEGIN:VCALENDAR
VERSION:2.0
PRODID:-//Showband &#039;75 - ECPv6.15.13.1//NONSGML v1.0//EN
CALSCALE:GREGORIAN
METHOD:PUBLISH
X-ORIGINAL-URL:https://showband75.nl
X-WR-CALDESC:Evenementen voor Showband &#039;75
REFRESH-INTERVAL;VALUE=DURATION:PT1H
X-Robots-Tag:noindex
X-PUBLISHED-TTL:PT1H
BEGIN:VTIMEZONE
TZID:Europe/Amsterdam
BEGIN:DAYLIGHT
TZOFFSETFROM:+0100
TZOFFSETTO:+0200
TZNAME:CEST
DTSTART:20180325T010000
END:DAYLIGHT
BEGIN:STANDARD
TZOFFSETFROM:+0200
TZOFFSETTO:+0100
TZNAME:CET
DTSTART:20181028T010000
END:STANDARD
BEGIN:DAYLIGHT
TZOFFSETFROM:+0100
TZOFFSETTO:+0200
TZNAME:CEST
DTSTART:20190331T010000
END:DAYLIGHT
BEGIN:STANDARD
TZOFFSETFROM:+0200
TZOFFSETTO:+0100
TZNAME:CET
DTSTART:20191027T010000
END:STANDARD
BEGIN:DAYLIGHT
TZOFFSETFROM:+0100
TZOFFSETTO:+0200
TZNAME:CEST
DTSTART:20200329T010000
END:DAYLIGHT
BEGIN:STANDARD
TZOFFSETFROM:+0200
TZOFFSETTO:+0100
TZNAME:CET
DTSTART:20201025T010000
END:STANDARD
END:VTIMEZONE
BEGIN:VEVENT
DTSTART;TZID=Europe/Amsterdam:20191221T133000
DTEND;TZID=Europe/Amsterdam:20191221T153000
DTSTAMP:20260421T180030
CREATED:20191218T192012Z
LAST-MODIFIED:20191218T192013Z
UID:1907-1576935000-1576942200@showband75.nl
SUMMARY:Kerst in de Fahrenheitstraat
DESCRIPTION:
URL:https://showband75.nl/agenda/kerst-in-de-fahrenheitstraat/
LOCATION:Fahrenheitstraat Den Haag\, Fahrenheitstraat\, Den Haag
CATEGORIES:Kerst
ATTACH;FMTTYPE=image/jpeg:https://showband75.nl/wp-content/uploads/2019/12/057F3084-AD34-4B13-89B6-ECE44C739D63.jpeg
END:VEVENT
END:VCALENDAR